Workbook

Sheet Instructions
B1: Childcare Facility Tax Credit
B2: Resources | D2: Childcare Facility Tax Credit Calculator Instructions
D4: Use this calculator to determine the allowable facility tax credit based on the facility’s quality rating under the Alabama Quality STARS Program and the average monthly number of eligible children enrolled. The credit is limited to $25,000 per facility per year.
D6: Enter information only on the Facility Credit Information tab. The Monthly Average tab updates automatically based on the information entered in the Facility Credit Information tab and is for informational purposes only.
B8: Contact | D8: Calculate the Credit
B10: Office of Economic Development | D10: 1. Open the Facility Credit Information tab.
D11: 2. Enter the following facility information:
E13: ➢ Facility Name
E14: ➢ Facility Address
E15: ➢ License Number
E16: ➢ Enrollment Year
D18: 3. Enter the number of months the facility held each applicable STAR rating during the enrollment year in the Credit Calculation table.
D20: 4. Enter the name of each eligible child under the age of 6, along with their date of birth, subsidy placement start date, and subsidy placement end date in the Eligible Children table.
E21: ➢ Date of birth should be entered MM/DD/YYYY.
E22: ➢ If subsidy placement did not end during the enrollment year, no entry is required for end date.
E23: ➢ If a child’s subsidy placement begins and ends throughout the year, a separate entry should be made for each placement period.
E24: ➢ If a child turns 6 during the enrollment year, enter the child’s information. The calculator will stop counting the child on the child’s sixth birthday.
D26: 5. The Credit Calculation Table will update as eligible children are added to the Eligible Children table. The Total Credit Allowed should be entered into the Credit Amount Requested field when submitting the credit claim in My Alabama Taxes.
D28: 6. The document should be saved in excel format and submitted with the facility’s credit claim in My Alabama Taxes. A copy of the facility’s DHR License and STARS certificate, each covering the entire year, should also be included.
D30: NOTE: If claiming a facility credit for multiple childcare facilities, a separate worksheet must be submitted for each eligible facility.

Sheet Facility Credit Information
B1: Blank Template | M1: ="Entries: "&COUNTA(ChildrenTable[*Child Name])&" out of "&COUNTA(ChildrenTable[*Child Name])+COUNTBLANK(ChildrenTable[*Child Name]) -> Entries: 0 out of 100 | N1: ="Monthly Average: "&ROUND(AVERAGE('Monthly Average'!C37:N37),0) -> Monthly Average: 0
B2: * Indicates required | H2: Eligible Children | J2: =M1 -> Entries: 0 out of 100
B3: Facility Information | H3: *Child Name | I3: *Date of Birth | J3: *Subsidy Placement Date | K3: Subsidy End Date
B4: *Facility Name:
B6: *Facility Address:
B8: *License #:
B10: *Enrollment Year:
B13: Credit Calculation
B14: STARS Rating | C14: $ per Rating | D14: *# of Months per Rating | E14: % | F14: Credit Amount
B15: 1 | C15: {=_xlfn.IFS(B15=1,"$1,000",B15=2,"$1,250",B15=3,"$1,500",B15=4,"$1,750",B15=5,"$2,000",B15="","")} -> $1,000 | E15: =IF(D15="","",(D15/12)) | F15: =IF(D15="","",(C15*ROUND(AVERAGE('Monthly Average'!$C$37:$N$37),0)*E15))
B16: 2 | C16: {=_xlfn.IFS(B16=1,"$1,000",B16=2,"$1,250",B16=3,"$1,500",B16=4,"$1,750",B16=5,"$2,000",B16="","")} -> $1,250 | E16: =IF(D16="","",(D16/12)) | F16: =IF(D16="","",(C16*ROUND(AVERAGE('Monthly Average'!$C$37:$N$37),0)*E16))
B17: 3 | C17: {=_xlfn.IFS(B17=1,"$1,000",B17=2,"$1,250",B17=3,"$1,500",B17=4,"$1,750",B17=5,"$2,000",B17="","")} -> $1,500 | E17: =IF(D17="","",(D17/12)) | F17: =IF(D17="","",(C17*ROUND(AVERAGE('Monthly Average'!$C$37:$N$37),0)*E17))
B18: 4 | C18: {=_xlfn.IFS(B18=1,"$1,000",B18=2,"$1,250",B18=3,"$1,500",B18=4,"$1,750",B18=5,"$2,000",B18="","")} -> $1,750 | E18: =IF(D18="","",(D18/12)) | F18: =IF(D18="","",(C18*ROUND(AVERAGE('Monthly Average'!$C$37:$N$37),0)*E18))
B19: 5 | C19: {=_xlfn.IFS(B19=1,"$1,000",B19=2,"$1,250",B19=3,"$1,500",B19=4,"$1,750",B19=5,"$2,000",B19="","")} -> $2,000 | E19: =IF(D19="","",(D19/12)) | F19: =IF(D19="","",(C19*ROUND(AVERAGE('Monthly Average'!$C$37:$N$37),0)*E19))
D21: Total Credit Allowed: | F21: =IF(SUM(F15:F19)>=25000,25000,SUM(F15:F19)) -> 0

Sheet Monthly Average
B1: Monthly Average of Eligible Children Enrolled
B2: Day | C2: January | D2: February | E2: March | F2: April | G2: May | H2: June | I2: July | J2: August | K2: September | L2: October | M2: November | N2: December | P2: STAR Rating | Q2: $ per Rate | R2: # of Months per Rating | S2: % | T2: Credit Amount
B3: 1 | C3: {=IFERROR( IF( $B3>DAY(EOMONTH(DATE('Facility Credit Information'!$B$11,MONTH(DATEVALUE(C$2&" 1")),1),0)), "", _xlfn.LET( _xlpm.ReportDate,DATE('Facility Credit Information'!$B$11,MONTH(DATEVALUE(C$2&" 1")),$B3), _xlpm.BirthDates,ChildrenTable[*Date of Birth], _xlpm.StartDates,ChildrenTable[*Subsidy Placement Date], _xlpm.EndDates,ChildrenTable[Subsidy End Date], SUMPRODUCT( (_xlpm.BirthDates<>"")* (_xlpm.StartDates<>"")* (_xlpm.StartDates<=_xlpm.ReportDate)* ( ( (_xlpm.EndDates="")+ ( (_xlpm.EndDates<>"")* (_xlpm.EndDates>_xlpm.ReportDate) ) )>0 )* ( _xlpm.ReportDate< DATE( YEAR(_xlpm.BirthDates)+6, MONTH(_xlpm.BirthDates), DAY(_xlpm.BirthDates) ) ) ) ) ), 0 )} -> 0 | D3: {=IFERROR( IF( $B3>DAY(EOMONTH(DATE('Facility Credit Information'!$B$11,MONTH(DATEVALUE(D$2&" 1")),1),0)), "", _xlfn.LET( _xlpm.ReportDate,DATE('Facility Credit Information'!$B$11,MONTH(DATEVALUE(D$2&" 1")),$B3), _xlpm.BirthDates,ChildrenTable[*Date of Birth], _xlpm.StartDates,ChildrenTable[*Subsidy Placement Date], _xlpm.EndDates,ChildrenTable[Subsidy End Date], SUMPRODUCT( (_xlpm.BirthDates<>"")* (_xlpm.StartDates<>"")* (_xlpm.StartDates<=_xlpm.ReportDate)* ( ( (_xlpm.EndDates="")+ ( (_xlpm.EndDates<>"")* (_xlpm.EndDates>_xlpm.ReportDate) ) )>0 )* ( _xlpm.ReportDate< DATE( YEAR(_xlpm.BirthDates)+6, MONTH(_xlpm.BirthDates), DAY(_xlpm.BirthDates) ) ) ) ) ), 0 )} -> 0 | E3: {=IFERROR( IF( $B3>DAY(EOMONTH(DATE('Facility Credit Information'!$B$11,MONTH(DATEVALUE(E$2&" 1")),1),0)), "", _xlfn.LET( _xlpm.ReportDate,DATE('Facility Credit Information'!$B$11,MONTH(DATEVALUE(E$2&" 1")),$B3), _xlpm.BirthDates,ChildrenTable[*Date of Birth], _xlpm.StartDates,ChildrenTable[*Subsidy Placement Date], _xlpm.EndDates,ChildrenTable[Subsidy End Date], SUMPRODUCT( (_xlpm.BirthDates<>"")* (_xlpm.StartDates<>"")* (_xlpm.StartDates<=_xlpm.ReportDate)* ( ( (_xlpm.EndDates="")+ ( (_xlpm.EndDates<>"")* (_xlpm.EndDates>_xlpm.ReportDate) ) )>0 )* ( _xlpm.ReportDate< DATE( YEAR(_xlpm.BirthDates)+6, MONTH(_xlpm.BirthDates), DAY(_xlpm.BirthDates) ) ) ) ) ), 0 )} -> 0 | F3: {=IFERROR( IF( $B3>DAY(EOMONTH(DATE('Facility Credit Information'!$B$11,MONTH(DATEVALUE(F$2&" 1")),1),0)), "", _xlfn.LET( _xlpm.ReportDate,DATE('Facility Credit Information'!$B$11,MONTH(DATEVALUE(F$2&" 1")),$B3), _xlpm.BirthDates,ChildrenTable[*Date of Birth], _xlpm.StartDates,ChildrenTable[*Subsidy Placement Date], _xlpm.EndDates,ChildrenTable[Subsidy End Date], SUMPRODUCT( (_xlpm.BirthDates<>"")* (_xlpm.StartDates<>"")* (_xlpm.StartDates<=_xlpm.ReportDate)* ( ( (_xlpm.EndDates="")+ ( (_xlpm.EndDates<>"")* (_xlpm.EndDates>_xlpm.ReportDate) ) )>0 )* ( _xlpm.ReportDate< DATE( YEAR(_xlpm.BirthDates)+6, MONTH(_xlpm.BirthDates), DAY(_xlpm.BirthDates) ) ) ) ) ), 0 )} -> 0 | G3: {=IFERROR( IF( $B3>DAY(EOMONTH(DATE('Facility Credit Information'!$B$11,MONTH(DATEVALUE(G$2&" 1")),1),0)), "", _xlfn.LET( _xlpm.ReportDate,DATE('Facility Credit Information'!$B$11,MONTH(DATEVALUE(G$2&" 1")),$B3), _xlpm.BirthDates,ChildrenTable[*Date of Birth], _xlpm.StartDates,ChildrenTable[*Subsidy Placement Date], _xlpm.EndDates,ChildrenTable[Subsidy End Date], SUMPRODUCT( (_xlpm.BirthDates<>"")* (_xlpm.StartDates<>"")* (_xlpm.StartDates<=_xlpm.ReportDate)* ( ( (_xlpm.EndDates="")+ ( (_xlpm.EndDates<>"")* (_xlpm.EndDates>_xlpm.ReportDate) ) )>0 )* ( _xlpm.ReportDate< DATE( YEAR(_xlpm.BirthDates)+6, MONTH(_xlpm.BirthDates), DAY(_xlpm.BirthDates) ) ) ) ) ), 0 )} -> 0 | H3: {=IFERROR( IF( $B3>DAY(EOMONTH(DATE('Facility Credit Information'!$B$11,MONTH(DATEVALUE(H$2&" 1")),1),0)), "", _xlfn.LET( _xlpm.ReportDate,DATE('Facility Credit Information'!$B$11,MONTH(DATEVALUE(H$2&" 1")),$B3), _xlpm.BirthDates,ChildrenTable[*Date of Birth], _xlpm.StartDates,ChildrenTable[*Subsidy Placement Date], _xlpm.EndDates,ChildrenTable[Subsidy End Date], SUMPRODUCT( (_xlpm.BirthDates<>"")* (_xlpm.StartDates<>"")* (_xlpm.StartDates<=_xlpm.ReportDate)* ( ( (_xlpm.EndDates="")+ ( (_xlpm.EndDates<>"")* (_xlpm.EndDates>_xlpm.ReportDate) ) )>0 )* ( _xlpm.ReportDate< DATE( YEAR(_xlpm.BirthDates)+6, MONTH(_xlpm.BirthDates), DAY(_xlpm.BirthDates) ) ) ) ) ), 0 )} -> 0 | I3: {=IFERROR( IF( $B3>DAY(EOMONTH(DATE('Facility Credit Information'!$B$11,MONTH(DATEVALUE(I$2&" 1")),1),0)), "", _xlfn.LET( _xlpm.ReportDate,DATE('Facility Credit Information'!$B$11,MONTH(DATEVALUE(I$2&" 1")),$B3), _xlpm.BirthDates,ChildrenTable[*Date of Birth], _xlpm.StartDates,ChildrenTable[*Subsidy Placement Date], _xlpm.EndDates,ChildrenTable[Subsidy End Date], SUMPRODUCT( (_xlpm.BirthDates<>"")* (_xlpm.StartDates<>"")* (_xlpm.StartDates<=_xlpm.ReportDate)* ( ( (_xlpm.EndDates="")+ ( (_xlpm.EndDates<>"")* (_xlpm.EndDates>_xlpm.ReportDate) ) )>0 )* ( _xlpm.ReportDate< DATE( YEAR(_xlpm.BirthDates)+6, MONTH(_xlpm.BirthDates), DAY(_xlpm.BirthDates) ) ) ) ) ), 0 )} -> 0 | J3: {=IFERROR( IF( $B3>DAY(EOMONTH(DATE('Facility Credit Information'!$B$11,MONTH(DATEVALUE(J$2&" 1")),1),0)), "", _xlfn.LET( _xlpm.ReportDate,DATE('Facility Credit Information'!$B$11,MONTH(DATEVALUE(J$2&" 1")),$B3), _xlpm.BirthDates,ChildrenTable[*Date of Birth], _xlpm.StartDates,ChildrenTable[*Subsidy Placement Date], _xlpm.EndDates,ChildrenTable[Subsidy End Date], SUMPRODUCT( (_xlpm.BirthDates<>"")* (_xlpm.StartDates<>"")* (_xlpm.StartDates<=_xlpm.ReportDate)* ( ( (_xlpm.EndDates="")+ ( (_xlpm.EndDates<>"")* (_xlpm.EndDates>_xlpm.ReportDate) ) )>0 )* ( _xlpm.ReportDate< DATE( YEAR(_xlpm.BirthDates)+6, MONTH(_xlpm.BirthDates), DAY(_xlpm.BirthDates) ) ) ) ) ), 0 )} -> 0 | ... N3: {=IFERROR( IF( $B3>DAY(EOMONTH(DATE('Facility Credit Information'!$B$11,MONTH(DATEVALUE(N$2&" 1")),1),0)), "", _xlfn.LET( _xlpm.ReportDate,DATE('Facility Credit Information'!$B$11,MONTH(DATEVALUE(N$2&" 1")),$B3), _xlpm.BirthDates,ChildrenTable[*Date of Birth], _xlpm.StartDates,ChildrenTable[*Subsidy Placement Date], _xlpm.EndDates,ChildrenTable[Subsidy End Date], SUMPRODUCT( (_xlpm.BirthDates<>"")* (_xlpm.StartDates<>"")* (_xlpm.StartDates<=_xlpm.ReportDate)* ( ( (_xlpm.EndDates="")+ ( (_xlpm.EndDates<>"")* (_xlpm.EndDates>_xlpm.ReportDate) ) )>0 )* ( _xlpm.ReportDate< DATE( YEAR(_xlpm.BirthDates)+6, MONTH(_xlpm.BirthDates), DAY(_xlpm.BirthDates) ) ) ) ) ), 0 )} -> 0 | P3: 1 | Q3: {=_xlfn.IFS(P3=1,"$1,000",P3=2,"$1,250",P3=3,"$1,500",P3=4,"$1,750",P3=5,"$2,000",P3="","")} -> $1,000 | R3: =IF('Facility Credit Information'!$D15="","",'Facility Credit Information'!$D15) | S3: =IF(R3="","",(R3/12)) | T3: =IF(R3="","",(Q3*ROUND(AVERAGE($C$37:$N$37),0)*S3))
B4: 2 | C4: {=IFERROR( IF( $B4>DAY(EOMONTH(DATE('Facility Credit Information'!$B$11,MONTH(DATEVALUE(C$2&" 1")),1),0)), "", _xlfn.LET( _xlpm.ReportDate,DATE('Facility Credit Information'!$B$11,MONTH(DATEVALUE(C$2&" 1")),$B4), _xlpm.BirthDates,ChildrenTable[*Date of Birth], _xlpm.StartDates,ChildrenTable[*Subsidy Placement Date], _xlpm.EndDates,ChildrenTable[Subsidy End Date], SUMPRODUCT( (_xlpm.BirthDates<>"")* (_xlpm.StartDates<>"")* (_xlpm.StartDates<=_xlpm.ReportDate)* ( ( (_xlpm.EndDates="")+ ( (_xlpm.EndDates<>"")* (_xlpm.EndDates>_xlpm.ReportDate) ) )>0 )* ( _xlpm.ReportDate< DATE( YEAR(_xlpm.BirthDates)+6, MONTH(_xlpm.BirthDates), DAY(_xlpm.BirthDates) ) ) ) ) ), 0 )} -> 0 | D4: {=IFERROR( IF( $B4>DAY(EOMONTH(DATE('Facility Credit Information'!$B$11,MONTH(DATEVALUE(D$2&" 1")),1),0)), "", _xlfn.LET( _xlpm.ReportDate,DATE('Facility Credit Information'!$B$11,MONTH(DATEVALUE(D$2&" 1")),$B4), _xlpm.BirthDates,ChildrenTable[*Date of Birth], _xlpm.StartDates,ChildrenTable[*Subsidy Placement Date], _xlpm.EndDates,ChildrenTable[Subsidy End Date], SUMPRODUCT( (_xlpm.BirthDates<>"")* (_xlpm.StartDates<>"")* (_xlpm.StartDates<=_xlpm.ReportDate)* ( ( (_xlpm.EndDates="")+ ( (_xlpm.EndDates<>"")* (_xlpm.EndDates>_xlpm.ReportDate) ) )>0 )* ( _xlpm.ReportDate< DATE( YEAR(_xlpm.BirthDates)+6, MONTH(_xlpm.BirthDates), DAY(_xlpm.BirthDates) ) ) ) ) ), 0 )} -> 0 | E4: {=IFERROR( IF( $B4>DAY(EOMONTH(DATE('Facility Credit Information'!$B$11,MONTH(DATEVALUE(E$2&" 1")),1),0)), "", _xlfn.LET( _xlpm.ReportDate,DATE('Facility Credit Information'!$B$11,MONTH(DATEVALUE(E$2&" 1")),$B4), _xlpm.BirthDates,ChildrenTable[*Date of Birth], _xlpm.StartDates,ChildrenTable[*Subsidy Placement Date], _xlpm.EndDates,ChildrenTable[Subsidy End Date], SUMPRODUCT( (_xlpm.BirthDates<>"")* (_xlpm.StartDates<>"")* (_xlpm.StartDates<=_xlpm.ReportDate)* ( ( (_xlpm.EndDates="")+ ( (_xlpm.EndDates<>"")* (_xlpm.EndDates>_xlpm.ReportDate) ) )>0 )* ( _xlpm.ReportDate< DATE( YEAR(_xlpm.BirthDates)+6, MONTH(_xlpm.BirthDates), DAY(_xlpm.BirthDates) ) ) ) ) ), 0 )} -> 0 | F4: {=IFERROR( IF( $B4>DAY(EOMONTH(DATE('Facility Credit Information'!$B$11,MONTH(DATEVALUE(F$2&" 1")),1),0)), "", _xlfn.LET( _xlpm.ReportDate,DATE('Facility Credit Information'!$B$11,MONTH(DATEVALUE(F$2&" 1")),$B4), _xlpm.BirthDates,ChildrenTable[*Date of Birth], _xlpm.StartDates,ChildrenTable[*Subsidy Placement Date], _xlpm.EndDates,ChildrenTable[Subsidy End Date], SUMPRODUCT( (_xlpm.BirthDates<>"")* (_xlpm.StartDates<>"")* (_xlpm.StartDates<=_xlpm.ReportDate)* ( ( (_xlpm.EndDates="")+ ( (_xlpm.EndDates<>"")* (_xlpm.EndDates>_xlpm.ReportDate) ) )>0 )* ( _xlpm.ReportDate< DATE( YEAR(_xlpm.BirthDates)+6, MONTH(_xlpm.BirthDates), DAY(_xlpm.BirthDates) ) ) ) ) ), 0 )} -> 0 | G4: {=IFERROR( IF( $B4>DAY(EOMONTH(DATE('Facility Credit Information'!$B$11,MONTH(DATEVALUE(G$2&" 1")),1),0)), "", _xlfn.LET( _xlpm.ReportDate,DATE('Facility Credit Information'!$B$11,MONTH(DATEVALUE(G$2&" 1")),$B4), _xlpm.BirthDates,ChildrenTable[*Date of Birth], _xlpm.StartDates,ChildrenTable[*Subsidy Placement Date], _xlpm.EndDates,ChildrenTable[Subsidy End Date], SUMPRODUCT( (_xlpm.BirthDates<>"")* (_xlpm.StartDates<>"")* (_xlpm.StartDates<=_xlpm.ReportDate)* ( ( (_xlpm.EndDates="")+ ( (_xlpm.EndDates<>"")* (_xlpm.EndDates>_xlpm.ReportDate) ) )>0 )* ( _xlpm.ReportDate< DATE( YEAR(_xlpm.BirthDates)+6, MONTH(_xlpm.BirthDates), DAY(_xlpm.BirthDates) ) ) ) ) ), 0 )} -> 0 | H4: {=IFERROR( IF( $B4>DAY(EOMONTH(DATE('Facility Credit Information'!$B$11,MONTH(DATEVALUE(H$2&" 1")),1),0)), "", _xlfn.LET( _xlpm.ReportDate,DATE('Facility Credit Information'!$B$11,MONTH(DATEVALUE(H$2&" 1")),$B4), _xlpm.BirthDates,ChildrenTable[*Date of Birth], _xlpm.StartDates,ChildrenTable[*Subsidy Placement Date], _xlpm.EndDates,ChildrenTable[Subsidy End Date], SUMPRODUCT( (_xlpm.BirthDates<>"")* (_xlpm.StartDates<>"")* (_xlpm.StartDates<=_xlpm.ReportDate)* ( ( (_xlpm.EndDates="")+ ( (_xlpm.EndDates<>"")* (_xlpm.EndDates>_xlpm.ReportDate) ) )>0 )* ( _xlpm.ReportDate< DATE( YEAR(_xlpm.BirthDates)+6, MONTH(_xlpm.BirthDates), DAY(_xlpm.BirthDates) ) ) ) ) ), 0 )} -> 0 | I4: {=IFERROR( IF( $B4>DAY(EOMONTH(DATE('Facility Credit Information'!$B$11,MONTH(DATEVALUE(I$2&" 1")),1),0)), "", _xlfn.LET( _xlpm.ReportDate,DATE('Facility Credit Information'!$B$11,MONTH(DATEVALUE(I$2&" 1")),$B4), _xlpm.BirthDates,ChildrenTable[*Date of Birth], _xlpm.StartDates,ChildrenTable[*Subsidy Placement Date], _xlpm.EndDates,ChildrenTable[Subsidy End Date], SUMPRODUCT( (_xlpm.BirthDates<>"")* (_xlpm.StartDates<>"")* (_xlpm.StartDates<=_xlpm.ReportDate)* ( ( (_xlpm.EndDates="")+ ( (_xlpm.EndDates<>"")* (_xlpm.EndDates>_xlpm.ReportDate) ) )>0 )* ( _xlpm.ReportDate< DATE( YEAR(_xlpm.BirthDates)+6, MONTH(_xlpm.BirthDates), DAY(_xlpm.BirthDates) ) ) ) ) ), 0 )} -> 0 | J4: {=IFERROR( IF( $B4>DAY(EOMONTH(DATE('Facility Credit Information'!$B$11,MONTH(DATEVALUE(J$2&" 1")),1),0)), "", _xlfn.LET( _xlpm.ReportDate,DATE('Facility Credit Information'!$B$11,MONTH(DATEVALUE(J$2&" 1")),$B4), _xlpm.BirthDates,ChildrenTable[*Date of Birth], _xlpm.StartDates,ChildrenTable[*Subsidy Placement Date], _xlpm.EndDates,ChildrenTable[Subsidy End Date], SUMPRODUCT( (_xlpm.BirthDates<>"")* (_xlpm.StartDates<>"")* (_xlpm.StartDates<=_xlpm.ReportDate)* ( ( (_xlpm.EndDates="")+ ( (_xlpm.EndDates<>"")* (_xlpm.EndDates>_xlpm.ReportDate) ) )>0 )* ( _xlpm.ReportDate< DATE( YEAR(_xlpm.BirthDates)+6, MONTH(_xlpm.BirthDates), DAY(_xlpm.BirthDates) ) ) ) ) ), 0 )} -> 0 | ... N4: {=IFERROR( IF( $B4>DAY(EOMONTH(DATE('Facility Credit Information'!$B$11,MONTH(DATEVALUE(N$2&" 1")),1),0)), "", _xlfn.LET( _xlpm.ReportDate,DATE('Facility Credit Information'!$B$11,MONTH(DATEVALUE(N$2&" 1")),$B4), _xlpm.BirthDates,ChildrenTable[*Date of Birth], _xlpm.StartDates,ChildrenTable[*Subsidy Placement Date], _xlpm.EndDates,ChildrenTable[Subsidy End Date], SUMPRODUCT( (_xlpm.BirthDates<>"")* (_xlpm.StartDates<>"")* (_xlpm.StartDates<=_xlpm.ReportDate)* ( ( (_xlpm.EndDates="")+ ( (_xlpm.EndDates<>"")* (_xlpm.EndDates>_xlpm.ReportDate) ) )>0 )* ( _xlpm.ReportDate< DATE( YEAR(_xlpm.BirthDates)+6, MONTH(_xlpm.BirthDates), DAY(_xlpm.BirthDates) ) ) ) ) ), 0 )} -> 0 | P4: 2 | Q4: {=_xlfn.IFS(P4=1,"$1,000",P4=2,"$1,250",P4=3,"$1,500",P4=4,"$1,750",P4=5,"$2,000",P4="","")} -> $1,250 | R4: =IF('Facility Credit Information'!$D16="","",'Facility Credit Information'!$D16) | S4: =IF(R4="","",(R4/12)) | T4: =IF(R4="","",(Q4*ROUND(AVERAGE($C$37:$N$37),0)*S4))
B5: 3 | C5: {=IFERROR( IF( $B5>DAY(EOMONTH(DATE('Facility Credit Information'!$B$11,MONTH(DATEVALUE(C$2&" 1")),1),0)), "", _xlfn.LET( _xlpm.ReportDate,DATE('Facility Credit Information'!$B$11,MONTH(DATEVALUE(C$2&" 1")),$B5), _xlpm.BirthDates,ChildrenTable[*Date of Birth], _xlpm.StartDates,ChildrenTable[*Subsidy Placement Date], _xlpm.EndDates,ChildrenTable[Subsidy End Date], SUMPRODUCT( (_xlpm.BirthDates<>"")* (_xlpm.StartDates<>"")* (_xlpm.StartDates<=_xlpm.ReportDate)* ( ( (_xlpm.EndDates="")+ ( (_xlpm.EndDates<>"")* (_xlpm.EndDates>_xlpm.ReportDate) ) )>0 )* ( _xlpm.ReportDate< DATE( YEAR(_xlpm.BirthDates)+6, MONTH(_xlpm.BirthDates), DAY(_xlpm.BirthDates) ) ) ) ) ), 0 )} -> 0 | D5: {=IFERROR( IF( $B5>DAY(EOMONTH(DATE('Facility Credit Information'!$B$11,MONTH(DATEVALUE(D$2&" 1")),1),0)), "", _xlfn.LET( _xlpm.ReportDate,DATE('Facility Credit Information'!$B$11,MONTH(DATEVALUE(D$2&" 1")),$B5), _xlpm.BirthDates,ChildrenTable[*Date of Birth], _xlpm.StartDates,ChildrenTable[*Subsidy Placement Date], _xlpm.EndDates,ChildrenTable[Subsidy End Date], SUMPRODUCT( (_xlpm.BirthDates<>"")* (_xlpm.StartDates<>"")* (_xlpm.StartDates<=_xlpm.ReportDate)* ( ( (_xlpm.EndDates="")+ ( (_xlpm.EndDates<>"")* (_xlpm.EndDates>_xlpm.ReportDate) ) )>0 )* ( _xlpm.ReportDate< DATE( YEAR(_xlpm.BirthDates)+6, MONTH(_xlpm.BirthDates), DAY(_xlpm.BirthDates) ) ) ) ) ), 0 )} -> 0 | E5: {=IFERROR( IF( $B5>DAY(EOMONTH(DATE('Facility Credit Information'!$B$11,MONTH(DATEVALUE(E$2&" 1")),1),0)), "", _xlfn.LET( _xlpm.ReportDate,DATE('Facility Credit Information'!$B$11,MONTH(DATEVALUE(E$2&" 1")),$B5), _xlpm.BirthDates,ChildrenTable[*Date of Birth], _xlpm.StartDates,ChildrenTable[*Subsidy Placement Date], _xlpm.EndDates,ChildrenTable[Subsidy End Date], SUMPRODUCT( (_xlpm.BirthDates<>"")* (_xlpm.StartDates<>"")* (_xlpm.StartDates<=_xlpm.ReportDate)* ( ( (_xlpm.EndDates="")+ ( (_xlpm.EndDates<>"")* (_xlpm.EndDates>_xlpm.ReportDate) ) )>0 )* ( _xlpm.ReportDate< DATE( YEAR(_xlpm.BirthDates)+6, MONTH(_xlpm.BirthDates), DAY(_xlpm.BirthDates) ) ) ) ) ), 0 )} -> 0 | F5: {=IFERROR( IF( $B5>DAY(EOMONTH(DATE('Facility Credit Information'!$B$11,MONTH(DATEVALUE(F$2&" 1")),1),0)), "", _xlfn.LET( _xlpm.ReportDate,DATE('Facility Credit Information'!$B$11,MONTH(DATEVALUE(F$2&" 1")),$B5), _xlpm.BirthDates,ChildrenTable[*Date of Birth], _xlpm.StartDates,ChildrenTable[*Subsidy Placement Date], _xlpm.EndDates,ChildrenTable[Subsidy End Date], SUMPRODUCT( (_xlpm.BirthDates<>"")* (_xlpm.StartDates<>"")* (_xlpm.StartDates<=_xlpm.ReportDate)* ( ( (_xlpm.EndDates="")+ ( (_xlpm.EndDates<>"")* (_xlpm.EndDates>_xlpm.ReportDate) ) )>0 )* ( _xlpm.ReportDate< DATE( YEAR(_xlpm.BirthDates)+6, MONTH(_xlpm.BirthDates), DAY(_xlpm.BirthDates) ) ) ) ) ), 0 )} -> 0 | G5: {=IFERROR( IF( $B5>DAY(EOMONTH(DATE('Facility Credit Information'!$B$11,MONTH(DATEVALUE(G$2&" 1")),1),0)), "", _xlfn.LET( _xlpm.ReportDate,DATE('Facility Credit Information'!$B$11,MONTH(DATEVALUE(G$2&" 1")),$B5), _xlpm.BirthDates,ChildrenTable[*Date of Birth], _xlpm.StartDates,ChildrenTable[*Subsidy Placement Date], _xlpm.EndDates,ChildrenTable[Subsidy End Date], SUMPRODUCT( (_xlpm.BirthDates<>"")* (_xlpm.StartDates<>"")* (_xlpm.StartDates<=_xlpm.ReportDate)* ( ( (_xlpm.EndDates="")+ ( (_xlpm.EndDates<>"")* (_xlpm.EndDates>_xlpm.ReportDate) ) )>0 )* ( _xlpm.ReportDate< DATE( YEAR(_xlpm.BirthDates)+6, MONTH(_xlpm.BirthDates), DAY(_xlpm.BirthDates) ) ) ) ) ), 0 )} -> 0 | H5: {=IFERROR( IF( $B5>DAY(EOMONTH(DATE('Facility Credit Information'!$B$11,MONTH(DATEVALUE(H$2&" 1")),1),0)), "", _xlfn.LET( _xlpm.ReportDate,DATE('Facility Credit Information'!$B$11,MONTH(DATEVALUE(H$2&" 1")),$B5), _xlpm.BirthDates,ChildrenTable[*Date of Birth], _xlpm.StartDates,ChildrenTable[*Subsidy Placement Date], _xlpm.EndDates,ChildrenTable[Subsidy End Date], SUMPRODUCT( (_xlpm.BirthDates<>"")* (_xlpm.StartDates<>"")* (_xlpm.StartDates<=_xlpm.ReportDate)* ( ( (_xlpm.EndDates="")+ ( (_xlpm.EndDates<>"")* (_xlpm.EndDates>_xlpm.ReportDate) ) )>0 )* ( _xlpm.ReportDate< DATE( YEAR(_xlpm.BirthDates)+6, MONTH(_xlpm.BirthDates), DAY(_xlpm.BirthDates) ) ) ) ) ), 0 )} -> 0 | I5: {=IFERROR( IF( $B5>DAY(EOMONTH(DATE('Facility Credit Information'!$B$11,MONTH(DATEVALUE(I$2&" 1")),1),0)), "", _xlfn.LET( _xlpm.ReportDate,DATE('Facility Credit Information'!$B$11,MONTH(DATEVALUE(I$2&" 1")),$B5), _xlpm.BirthDates,ChildrenTable[*Date of Birth], _xlpm.StartDates,ChildrenTable[*Subsidy Placement Date], _xlpm.EndDates,ChildrenTable[Subsidy End Date], SUMPRODUCT( (_xlpm.BirthDates<>"")* (_xlpm.StartDates<>"")* (_xlpm.StartDates<=_xlpm.ReportDate)* ( ( (_xlpm.EndDates="")+ ( (_xlpm.EndDates<>"")* (_xlpm.EndDates>_xlpm.ReportDate) ) )>0 )* ( _xlpm.ReportDate< DATE( YEAR(_xlpm.BirthDates)+6, MONTH(_xlpm.BirthDates), DAY(_xlpm.BirthDates) ) ) ) ) ), 0 )} -> 0 | J5: {=IFERROR( IF( $B5>DAY(EOMONTH(DATE('Facility Credit Information'!$B$11,MONTH(DATEVALUE(J$2&" 1")),1),0)), "", _xlfn.LET( _xlpm.ReportDate,DATE('Facility Credit Information'!$B$11,MONTH(DATEVALUE(J$2&" 1")),$B5), _xlpm.BirthDates,ChildrenTable[*Date of Birth], _xlpm.StartDates,ChildrenTable[*Subsidy Placement Date], _xlpm.EndDates,ChildrenTable[Subsidy End Date], SUMPRODUCT( (_xlpm.BirthDates<>"")* (_xlpm.StartDates<>"")* (_xlpm.StartDates<=_xlpm.ReportDate)* ( ( (_xlpm.EndDates="")+ ( (_xlpm.EndDates<>"")* (_xlpm.EndDates>_xlpm.ReportDate) ) )>0 )* ( _xlpm.ReportDate< DATE( YEAR(_xlpm.BirthDates)+6, MONTH(_xlpm.BirthDates), DAY(_xlpm.BirthDates) ) ) ) ) ), 0 )} -> 0 | ... N5: {=IFERROR( IF( $B5>DAY(EOMONTH(DATE('Facility Credit Information'!$B$11,MONTH(DATEVALUE(N$2&" 1")),1),0)), "", _xlfn.LET( _xlpm.ReportDate,DATE('Facility Credit Information'!$B$11,MONTH(DATEVALUE(N$2&" 1")),$B5), _xlpm.BirthDates,ChildrenTable[*Date of Birth], _xlpm.StartDates,ChildrenTable[*Subsidy Placement Date], _xlpm.EndDates,ChildrenTable[Subsidy End Date], SUMPRODUCT( (_xlpm.BirthDates<>"")* (_xlpm.StartDates<>"")* (_xlpm.StartDates<=_xlpm.ReportDate)* ( ( (_xlpm.EndDates="")+ ( (_xlpm.EndDates<>"")* (_xlpm.EndDates>_xlpm.ReportDate) ) )>0 )* ( _xlpm.ReportDate< DATE( YEAR(_xlpm.BirthDates)+6, MONTH(_xlpm.BirthDates), DAY(_xlpm.BirthDates) ) ) ) ) ), 0 )} -> 0 | P5: 3 | Q5: {=_xlfn.IFS(P5=1,"$1,000",P5=2,"$1,250",P5=3,"$1,500",P5=4,"$1,750",P5=5,"$2,000",P5="","")} -> $1,500 | R5: =IF('Facility Credit Information'!$D17="","",'Facility Credit Information'!$D17) | S5: =IF(R5="","",(R5/12)) | T5: =IF(R5="","",(Q5*ROUND(AVERAGE($C$37:$N$37),0)*S5))
B6: 4 | C6: {=IFERROR( IF( $B6>DAY(EOMONTH(DATE('Facility Credit Information'!$B$11,MONTH(DATEVALUE(C$2&" 1")),1),0)), "", _xlfn.LET( _xlpm.ReportDate,DATE('Facility Credit Information'!$B$11,MONTH(DATEVALUE(C$2&" 1")),$B6), _xlpm.BirthDates,ChildrenTable[*Date of Birth], _xlpm.StartDates,ChildrenTable[*Subsidy Placement Date], _xlpm.EndDates,ChildrenTable[Subsidy End Date], SUMPRODUCT( (_xlpm.BirthDates<>"")* (_xlpm.StartDates<>"")* (_xlpm.StartDates<=_xlpm.ReportDate)* ( ( (_xlpm.EndDates="")+ ( (_xlpm.EndDates<>"")* (_xlpm.EndDates>_xlpm.ReportDate) ) )>0 )* ( _xlpm.ReportDate< DATE( YEAR(_xlpm.BirthDates)+6, MONTH(_xlpm.BirthDates), DAY(_xlpm.BirthDates) ) ) ) ) ), 0 )} -> 0 | D6: {=IFERROR( IF( $B6>DAY(EOMONTH(DATE('Facility Credit Information'!$B$11,MONTH(DATEVALUE(D$2&" 1")),1),0)), "", _xlfn.LET( _xlpm.ReportDate,DATE('Facility Credit Information'!$B$11,MONTH(DATEVALUE(D$2&" 1")),$B6), _xlpm.BirthDates,ChildrenTable[*Date of Birth], _xlpm.StartDates,ChildrenTable[*Subsidy Placement Date], _xlpm.EndDates,ChildrenTable[Subsidy End Date], SUMPRODUCT( (_xlpm.BirthDates<>"")* (_xlpm.StartDates<>"")* (_xlpm.StartDates<=_xlpm.ReportDate)* ( ( (_xlpm.EndDates="")+ ( (_xlpm.EndDates<>"")* (_xlpm.EndDates>_xlpm.ReportDate) ) )>0 )* ( _xlpm.ReportDate< DATE( YEAR(_xlpm.BirthDates)+6, MONTH(_xlpm.BirthDates), DAY(_xlpm.BirthDates) ) ) ) ) ), 0 )} -> 0 | E6: {=IFERROR( IF( $B6>DAY(EOMONTH(DATE('Facility Credit Information'!$B$11,MONTH(DATEVALUE(E$2&" 1")),1),0)), "", _xlfn.LET( _xlpm.ReportDate,DATE('Facility Credit Information'!$B$11,MONTH(DATEVALUE(E$2&" 1")),$B6), _xlpm.BirthDates,ChildrenTable[*Date of Birth], _xlpm.StartDates,ChildrenTable[*Subsidy Placement Date], _xlpm.EndDates,ChildrenTable[Subsidy End Date], SUMPRODUCT( (_xlpm.BirthDates<>"")* (_xlpm.StartDates<>"")* (_xlpm.StartDates<=_xlpm.ReportDate)* ( ( (_xlpm.EndDates="")+ ( (_xlpm.EndDates<>"")* (_xlpm.EndDates>_xlpm.ReportDate) ) )>0 )* ( _xlpm.ReportDate< DATE( YEAR(_xlpm.BirthDates)+6, MONTH(_xlpm.BirthDates), DAY(_xlpm.BirthDates) ) ) ) ) ), 0 )} -> 0 | F6: {=IFERROR( IF( $B6>DAY(EOMONTH(DATE('Facility Credit Information'!$B$11,MONTH(DATEVALUE(F$2&" 1")),1),0)), "", _xlfn.LET( _xlpm.ReportDate,DATE('Facility Credit Information'!$B$11,MONTH(DATEVALUE(F$2&" 1")),$B6), _xlpm.BirthDates,ChildrenTable[*Date of Birth], _xlpm.StartDates,ChildrenTable[*Subsidy Placement Date], _xlpm.EndDates,ChildrenTable[Subsidy End Date], SUMPRODUCT( (_xlpm.BirthDates<>"")* (_xlpm.StartDates<>"")* (_xlpm.StartDates<=_xlpm.ReportDate)* ( ( (_xlpm.EndDates="")+ ( (_xlpm.EndDates<>"")* (_xlpm.EndDates>_xlpm.ReportDate) ) )>0 )* ( _xlpm.ReportDate< DATE( YEAR(_xlpm.BirthDates)+6, MONTH(_xlpm.BirthDates), DAY(_xlpm.BirthDates) ) ) ) ) ), 0 )} -> 0 | G6: {=IFERROR( IF( $B6>DAY(EOMONTH(DATE('Facility Credit Information'!$B$11,MONTH(DATEVALUE(G$2&" 1")),1),0)), "", _xlfn.LET( _xlpm.ReportDate,DATE('Facility Credit Information'!$B$11,MONTH(DATEVALUE(G$2&" 1")),$B6), _xlpm.BirthDates,ChildrenTable[*Date of Birth], _xlpm.StartDates,ChildrenTable[*Subsidy Placement Date], _xlpm.EndDates,ChildrenTable[Subsidy End Date], SUMPRODUCT( (_xlpm.BirthDates<>"")* (_xlpm.StartDates<>"")* (_xlpm.StartDates<=_xlpm.ReportDate)* ( ( (_xlpm.EndDates="")+ ( (_xlpm.EndDates<>"")* (_xlpm.EndDates>_xlpm.ReportDate) ) )>0 )* ( _xlpm.ReportDate< DATE( YEAR(_xlpm.BirthDates)+6, MONTH(_xlpm.BirthDates), DAY(_xlpm.BirthDates) ) ) ) ) ), 0 )} -> 0 | H6: {=IFERROR( IF( $B6>DAY(EOMONTH(DATE('Facility Credit Information'!$B$11,MONTH(DATEVALUE(H$2&" 1")),1),0)), "", _xlfn.LET( _xlpm.ReportDate,DATE('Facility Credit Information'!$B$11,MONTH(DATEVALUE(H$2&" 1")),$B6), _xlpm.BirthDates,ChildrenTable[*Date of Birth], _xlpm.StartDates,ChildrenTable[*Subsidy Placement Date], _xlpm.EndDates,ChildrenTable[Subsidy End Date], SUMPRODUCT( (_xlpm.BirthDates<>"")* (_xlpm.StartDates<>"")* (_xlpm.StartDates<=_xlpm.ReportDate)* ( ( (_xlpm.EndDates="")+ ( (_xlpm.EndDates<>"")* (_xlpm.EndDates>_xlpm.ReportDate) ) )>0 )* ( _xlpm.ReportDate< DATE( YEAR(_xlpm.BirthDates)+6, MONTH(_xlpm.BirthDates), DAY(_xlpm.BirthDates) ) ) ) ) ), 0 )} -> 0 | I6: {=IFERROR( IF( $B6>DAY(EOMONTH(DATE('Facility Credit Information'!$B$11,MONTH(DATEVALUE(I$2&" 1")),1),0)), "", _xlfn.LET( _xlpm.ReportDate,DATE('Facility Credit Information'!$B$11,MONTH(DATEVALUE(I$2&" 1")),$B6), _xlpm.BirthDates,ChildrenTable[*Date of Birth], _xlpm.StartDates,ChildrenTable[*Subsidy Placement Date], _xlpm.EndDates,ChildrenTable[Subsidy End Date], SUMPRODUCT( (_xlpm.BirthDates<>"")* (_xlpm.StartDates<>"")* (_xlpm.StartDates<=_xlpm.ReportDate)* ( ( (_xlpm.EndDates="")+ ( (_xlpm.EndDates<>"")* (_xlpm.EndDates>_xlpm.ReportDate) ) )>0 )* ( _xlpm.ReportDate< DATE( YEAR(_xlpm.BirthDates)+6, MONTH(_xlpm.BirthDates), DAY(_xlpm.BirthDates) ) ) ) ) ), 0 )} -> 0 | J6: {=IFERROR( IF( $B6>DAY(EOMONTH(DATE('Facility Credit Information'!$B$11,MONTH(DATEVALUE(J$2&" 1")),1),0)), "", _xlfn.LET( _xlpm.ReportDate,DATE('Facility Credit Information'!$B$11,MONTH(DATEVALUE(J$2&" 1")),$B6), _xlpm.BirthDates,ChildrenTable[*Date of Birth], _xlpm.StartDates,ChildrenTable[*Subsidy Placement Date], _xlpm.EndDates,ChildrenTable[Subsidy End Date], SUMPRODUCT( (_xlpm.BirthDates<>"")* (_xlpm.StartDates<>"")* (_xlpm.StartDates<=_xlpm.ReportDate)* ( ( (_xlpm.EndDates="")+ ( (_xlpm.EndDates<>"")* (_xlpm.EndDates>_xlpm.ReportDate) ) )>0 )* ( _xlpm.ReportDate< DATE( YEAR(_xlpm.BirthDates)+6, MONTH(_xlpm.BirthDates), DAY(_xlpm.BirthDates) ) ) ) ) ), 0 )} -> 0 | ... N6: {=IFERROR( IF( $B6>DAY(EOMONTH(DATE('Facility Credit Information'!$B$11,MONTH(DATEVALUE(N$2&" 1")),1),0)), "", _xlfn.LET( _xlpm.ReportDate,DATE('Facility Credit Information'!$B$11,MONTH(DATEVALUE(N$2&" 1")),$B6), _xlpm.BirthDates,ChildrenTable[*Date of Birth], _xlpm.StartDates,ChildrenTable[*Subsidy Placement Date], _xlpm.EndDates,ChildrenTable[Subsidy End Date], SUMPRODUCT( (_xlpm.BirthDates<>"")* (_xlpm.StartDates<>"")* (_xlpm.StartDates<=_xlpm.ReportDate)* ( ( (_xlpm.EndDates="")+ ( (_xlpm.EndDates<>"")* (_xlpm.EndDates>_xlpm.ReportDate) ) )>0 )* ( _xlpm.ReportDate< DATE( YEAR(_xlpm.BirthDates)+6, MONTH(_xlpm.BirthDates), DAY(_xlpm.BirthDates) ) ) ) ) ), 0 )} -> 0 | P6: 4 | Q6: {=_xlfn.IFS(P6=1,"$1,000",P6=2,"$1,250",P6=3,"$1,500",P6=4,"$1,750",P6=5,"$2,000",P6="","")} -> $1,750 | R6: =IF('Facility Credit Information'!$D18="","",'Facility Credit Information'!$D18) | S6: =IF(R6="","",(R6/12)) | T6: =IF(R6="","",(Q6*ROUND(AVERAGE($C$37:$N$37),0)*S6))
B7: 5 | C7: {=IFERROR( IF( $B7>DAY(EOMONTH(DATE('Facility Credit Information'!$B$11,MONTH(DATEVALUE(C$2&" 1")),1),0)), "", _xlfn.LET( _xlpm.ReportDate,DATE('Facility Credit Information'!$B$11,MONTH(DATEVALUE(C$2&" 1")),$B7), _xlpm.BirthDates,ChildrenTable[*Date of Birth], _xlpm.StartDates,ChildrenTable[*Subsidy Placement Date], _xlpm.EndDates,ChildrenTable[Subsidy End Date], SUMPRODUCT( (_xlpm.BirthDates<>"")* (_xlpm.StartDates<>"")* (_xlpm.StartDates<=_xlpm.ReportDate)* ( ( (_xlpm.EndDates="")+ ( (_xlpm.EndDates<>"")* (_xlpm.EndDates>_xlpm.ReportDate) ) )>0 )* ( _xlpm.ReportDate< DATE( YEAR(_xlpm.BirthDates)+6, MONTH(_xlpm.BirthDates), DAY(_xlpm.BirthDates) ) ) ) ) ), 0 )} -> 0 | D7: {=IFERROR( IF( $B7>DAY(EOMONTH(DATE('Facility Credit Information'!$B$11,MONTH(DATEVALUE(D$2&" 1")),1),0)), "", _xlfn.LET( _xlpm.ReportDate,DATE('Facility Credit Information'!$B$11,MONTH(DATEVALUE(D$2&" 1")),$B7), _xlpm.BirthDates,ChildrenTable[*Date of Birth], _xlpm.StartDates,ChildrenTable[*Subsidy Placement Date], _xlpm.EndDates,ChildrenTable[Subsidy End Date], SUMPRODUCT( (_xlpm.BirthDates<>"")* (_xlpm.StartDates<>"")* (_xlpm.StartDates<=_xlpm.ReportDate)* ( ( (_xlpm.EndDates="")+ ( (_xlpm.EndDates<>"")* (_xlpm.EndDates>_xlpm.ReportDate) ) )>0 )* ( _xlpm.ReportDate< DATE( YEAR(_xlpm.BirthDates)+6, MONTH(_xlpm.BirthDates), DAY(_xlpm.BirthDates) ) ) ) ) ), 0 )} -> 0 | E7: {=IFERROR( IF( $B7>DAY(EOMONTH(DATE('Facility Credit Information'!$B$11,MONTH(DATEVALUE(E$2&" 1")),1),0)), "", _xlfn.LET( _xlpm.ReportDate,DATE('Facility Credit Information'!$B$11,MONTH(DATEVALUE(E$2&" 1")),$B7), _xlpm.BirthDates,ChildrenTable[*Date of Birth], _xlpm.StartDates,ChildrenTable[*Subsidy Placement Date], _xlpm.EndDates,ChildrenTable[Subsidy End Date], SUMPRODUCT( (_xlpm.BirthDates<>"")* (_xlpm.StartDates<>"")* (_xlpm.StartDates<=_xlpm.ReportDate)* ( ( (_xlpm.EndDates="")+ ( (_xlpm.EndDates<>"")* (_xlpm.EndDates>_xlpm.ReportDate) ) )>0 )* ( _xlpm.ReportDate< DATE( YEAR(_xlpm.BirthDates)+6, MONTH(_xlpm.BirthDates), DAY(_xlpm.BirthDates) ) ) ) ) ), 0 )} -> 0 | F7: {=IFERROR( IF( $B7>DAY(EOMONTH(DATE('Facility Credit Information'!$B$11,MONTH(DATEVALUE(F$2&" 1")),1),0)), "", _xlfn.LET( _xlpm.ReportDate,DATE('Facility Credit Information'!$B$11,MONTH(DATEVALUE(F$2&" 1")),$B7), _xlpm.BirthDates,ChildrenTable[*Date of Birth], _xlpm.StartDates,ChildrenTable[*Subsidy Placement Date], _xlpm.EndDates,ChildrenTable[Subsidy End Date], SUMPRODUCT( (_xlpm.BirthDates<>"")* (_xlpm.StartDates<>"")* (_xlpm.StartDates<=_xlpm.ReportDate)* ( ( (_xlpm.EndDates="")+ ( (_xlpm.EndDates<>"")* (_xlpm.EndDates>_xlpm.ReportDate) ) )>0 )* ( _xlpm.ReportDate< DATE( YEAR(_xlpm.BirthDates)+6, MONTH(_xlpm.BirthDates), DAY(_xlpm.BirthDates) ) ) ) ) ), 0 )} -> 0 | G7: {=IFERROR( IF( $B7>DAY(EOMONTH(DATE('Facility Credit Information'!$B$11,MONTH(DATEVALUE(G$2&" 1")),1),0)), "", _xlfn.LET( _xlpm.ReportDate,DATE('Facility Credit Information'!$B$11,MONTH(DATEVALUE(G$2&" 1")),$B7), _xlpm.BirthDates,ChildrenTable[*Date of Birth], _xlpm.StartDates,ChildrenTable[*Subsidy Placement Date], _xlpm.EndDates,ChildrenTable[Subsidy End Date], SUMPRODUCT( (_xlpm.BirthDates<>"")* (_xlpm.StartDates<>"")* (_xlpm.StartDates<=_xlpm.ReportDate)* ( ( (_xlpm.EndDates="")+ ( (_xlpm.EndDates<>"")* (_xlpm.EndDates>_xlpm.ReportDate) ) )>0 )* ( _xlpm.ReportDate< DATE( YEAR(_xlpm.BirthDates)+6, MONTH(_xlpm.BirthDates), DAY(_xlpm.BirthDates) ) ) ) ) ), 0 )} -> 0 | H7: {=IFERROR( IF( $B7>DAY(EOMONTH(DATE('Facility Credit Information'!$B$11,MONTH(DATEVALUE(H$2&" 1")),1),0)), "", _xlfn.LET( _xlpm.ReportDate,DATE('Facility Credit Information'!$B$11,MONTH(DATEVALUE(H$2&" 1")),$B7), _xlpm.BirthDates,ChildrenTable[*Date of Birth], _xlpm.StartDates,ChildrenTable[*Subsidy Placement Date], _xlpm.EndDates,ChildrenTable[Subsidy End Date], SUMPRODUCT( (_xlpm.BirthDates<>"")* (_xlpm.StartDates<>"")* (_xlpm.StartDates<=_xlpm.ReportDate)* ( ( (_xlpm.EndDates="")+ ( (_xlpm.EndDates<>"")* (_xlpm.EndDates>_xlpm.ReportDate) ) )>0 )* ( _xlpm.ReportDate< DATE( YEAR(_xlpm.BirthDates)+6, MONTH(_xlpm.BirthDates), DAY(_xlpm.BirthDates) ) ) ) ) ), 0 )} -> 0 | I7: {=IFERROR( IF( $B7>DAY(EOMONTH(DATE('Facility Credit Information'!$B$11,MONTH(DATEVALUE(I$2&" 1")),1),0)), "", _xlfn.LET( _xlpm.ReportDate,DATE('Facility Credit Information'!$B$11,MONTH(DATEVALUE(I$2&" 1")),$B7), _xlpm.BirthDates,ChildrenTable[*Date of Birth], _xlpm.StartDates,ChildrenTable[*Subsidy Placement Date], _xlpm.EndDates,ChildrenTable[Subsidy End Date], SUMPRODUCT( (_xlpm.BirthDates<>"")* (_xlpm.StartDates<>"")* (_xlpm.StartDates<=_xlpm.ReportDate)* ( ( (_xlpm.EndDates="")+ ( (_xlpm.EndDates<>"")* (_xlpm.EndDates>_xlpm.ReportDate) ) )>0 )* ( _xlpm.ReportDate< DATE( YEAR(_xlpm.BirthDates)+6, MONTH(_xlpm.BirthDates), DAY(_xlpm.BirthDates) ) ) ) ) ), 0 )} -> 0 | J7: {=IFERROR( IF( $B7>DAY(EOMONTH(DATE('Facility Credit Information'!$B$11,MONTH(DATEVALUE(J$2&" 1")),1),0)), "", _xlfn.LET( _xlpm.ReportDate,DATE('Facility Credit Information'!$B$11,MONTH(DATEVALUE(J$2&" 1")),$B7), _xlpm.BirthDates,ChildrenTable[*Date of Birth], _xlpm.StartDates,ChildrenTable[*Subsidy Placement Date], _xlpm.EndDates,ChildrenTable[Subsidy End Date], SUMPRODUCT( (_xlpm.BirthDates<>"")* (_xlpm.StartDates<>"")* (_xlpm.StartDates<=_xlpm.ReportDate)* ( ( (_xlpm.EndDates="")+ ( (_xlpm.EndDates<>"")* (_xlpm.EndDates>_xlpm.ReportDate) ) )>0 )* ( _xlpm.ReportDate< DATE( YEAR(_xlpm.BirthDates)+6, MONTH(_xlpm.BirthDates), DAY(_xlpm.BirthDates) ) ) ) ) ), 0 )} -> 0 | ... N7: {=IFERROR( IF( $B7>DAY(EOMONTH(DATE('Facility Credit Information'!$B$11,MONTH(DATEVALUE(N$2&" 1")),1),0)), "", _xlfn.LET( _xlpm.ReportDate,DATE('Facility Credit Information'!$B$11,MONTH(DATEVALUE(N$2&" 1")),$B7), _xlpm.BirthDates,ChildrenTable[*Date of Birth], _xlpm.StartDates,ChildrenTable[*Subsidy Placement Date], _xlpm.EndDates,ChildrenTable[Subsidy End Date], SUMPRODUCT( (_xlpm.BirthDates<>"")* (_xlpm.StartDates<>"")* (_xlpm.StartDates<=_xlpm.ReportDate)* ( ( (_xlpm.EndDates="")+ ( (_xlpm.EndDates<>"")* (_xlpm.EndDates>_xlpm.ReportDate) ) )>0 )* ( _xlpm.ReportDate< DATE( YEAR(_xlpm.BirthDates)+6, MONTH(_xlpm.BirthDates), DAY(_xlpm.BirthDates) ) ) ) ) ), 0 )} -> 0 | P7: 5 | Q7: {=_xlfn.IFS(P7=1,"$1,000",P7=2,"$1,250",P7=3,"$1,500",P7=4,"$1,750",P7=5,"$2,000",P7="","")} -> $2,000 | R7: =IF('Facility Credit Information'!$D19="","",'Facility Credit Information'!$D19) | S7: =IF(R7="","",(R7/12)) | T7: =IF(R7="","",(Q7*ROUND(AVERAGE($C$37:$N$37),0)*S7))
B8: 6 | C8: {=IFERROR( IF( $B8>DAY(EOMONTH(DATE('Facility Credit Information'!$B$11,MONTH(DATEVALUE(C$2&" 1")),1),0)), "", _xlfn.LET( _xlpm.ReportDate,DATE('Facility Credit Information'!$B$11,MONTH(DATEVALUE(C$2&" 1")),$B8), _xlpm.BirthDates,ChildrenTable[*Date of Birth], _xlpm.StartDates,ChildrenTable[*Subsidy Placement Date], _xlpm.EndDates,ChildrenTable[Subsidy End Date], SUMPRODUCT( (_xlpm.BirthDates<>"")* (_xlpm.StartDates<>"")* (_xlpm.StartDates<=_xlpm.ReportDate)* ( ( (_xlpm.EndDates="")+ ( (_xlpm.EndDates<>"")* (_xlpm.EndDates>_xlpm.ReportDate) ) )>0 )* ( _xlpm.ReportDate< DATE( YEAR(_xlpm.BirthDates)+6, MONTH(_xlpm.BirthDates), DAY(_xlpm.BirthDates) ) ) ) ) ), 0 )} -> 0 | D8: {=IFERROR( IF( $B8>DAY(EOMONTH(DATE('Facility Credit Information'!$B$11,MONTH(DATEVALUE(D$2&" 1")),1),0)), "", _xlfn.LET( _xlpm.ReportDate,DATE('Facility Credit Information'!$B$11,MONTH(DATEVALUE(D$2&" 1")),$B8), _xlpm.BirthDates,ChildrenTable[*Date of Birth], _xlpm.StartDates,ChildrenTable[*Subsidy Placement Date], _xlpm.EndDates,ChildrenTable[Subsidy End Date], SUMPRODUCT( (_xlpm.BirthDates<>"")* (_xlpm.StartDates<>"")* (_xlpm.StartDates<=_xlpm.ReportDate)* ( ( (_xlpm.EndDates="")+ ( (_xlpm.EndDates<>"")* (_xlpm.EndDates>_xlpm.ReportDate) ) )>0 )* ( _xlpm.ReportDate< DATE( YEAR(_xlpm.BirthDates)+6, MONTH(_xlpm.BirthDates), DAY(_xlpm.BirthDates) ) ) ) ) ), 0 )} -> 0 | E8: {=IFERROR( IF( $B8>DAY(EOMONTH(DATE('Facility Credit Information'!$B$11,MONTH(DATEVALUE(E$2&" 1")),1),0)), "", _xlfn.LET( _xlpm.ReportDate,DATE('Facility Credit Information'!$B$11,MONTH(DATEVALUE(E$2&" 1")),$B8), _xlpm.BirthDates,ChildrenTable[*Date of Birth], _xlpm.StartDates,ChildrenTable[*Subsidy Placement Date], _xlpm.EndDates,ChildrenTable[Subsidy End Date], SUMPRODUCT( (_xlpm.BirthDates<>"")* (_xlpm.StartDates<>"")* (_xlpm.StartDates<=_xlpm.ReportDate)* ( ( (_xlpm.EndDates="")+ ( (_xlpm.EndDates<>"")* (_xlpm.EndDates>_xlpm.ReportDate) ) )>0 )* ( _xlpm.ReportDate< DATE( YEAR(_xlpm.BirthDates)+6, MONTH(_xlpm.BirthDates), DAY(_xlpm.BirthDates) ) ) ) ) ), 0 )} -> 0 | F8: {=IFERROR( IF( $B8>DAY(EOMONTH(DATE('Facility Credit Information'!$B$11,MONTH(DATEVALUE(F$2&" 1")),1),0)), "", _xlfn.LET( _xlpm.ReportDate,DATE('Facility Credit Information'!$B$11,MONTH(DATEVALUE(F$2&" 1")),$B8), _xlpm.BirthDates,ChildrenTable[*Date of Birth], _xlpm.StartDates,ChildrenTable[*Subsidy Placement Date], _xlpm.EndDates,ChildrenTable[Subsidy End Date], SUMPRODUCT( (_xlpm.BirthDates<>"")* (_xlpm.StartDates<>"")* (_xlpm.StartDates<=_xlpm.ReportDate)* ( ( (_xlpm.EndDates="")+ ( (_xlpm.EndDates<>"")* (_xlpm.EndDates>_xlpm.ReportDate) ) )>0 )* ( _xlpm.ReportDate< DATE( YEAR(_xlpm.BirthDates)+6, MONTH(_xlpm.BirthDates), DAY(_xlpm.BirthDates) ) ) ) ) ), 0 )} -> 0 | G8: {=IFERROR( IF( $B8>DAY(EOMONTH(DATE('Facility Credit Information'!$B$11,MONTH(DATEVALUE(G$2&" 1")),1),0)), "", _xlfn.LET( _xlpm.ReportDate,DATE('Facility Credit Information'!$B$11,MONTH(DATEVALUE(G$2&" 1")),$B8), _xlpm.BirthDates,ChildrenTable[*Date of Birth], _xlpm.StartDates,ChildrenTable[*Subsidy Placement Date], _xlpm.EndDates,ChildrenTable[Subsidy End Date], SUMPRODUCT( (_xlpm.BirthDates<>"")* (_xlpm.StartDates<>"")* (_xlpm.StartDates<=_xlpm.ReportDate)* ( ( (_xlpm.EndDates="")+ ( (_xlpm.EndDates<>"")* (_xlpm.EndDates>_xlpm.ReportDate) ) )>0 )* ( _xlpm.ReportDate< DATE( YEAR(_xlpm.BirthDates)+6, MONTH(_xlpm.BirthDates), DAY(_xlpm.BirthDates) ) ) ) ) ), 0 )} -> 0 | H8: {=IFERROR( IF( $B8>DAY(EOMONTH(DATE('Facility Credit Information'!$B$11,MONTH(DATEVALUE(H$2&" 1")),1),0)), "", _xlfn.LET( _xlpm.ReportDate,DATE('Facility Credit Information'!$B$11,MONTH(DATEVALUE(H$2&" 1")),$B8), _xlpm.BirthDates,ChildrenTable[*Date of Birth], _xlpm.StartDates,ChildrenTable[*Subsidy Placement Date], _xlpm.EndDates,ChildrenTable[Subsidy End Date], SUMPRODUCT( (_xlpm.BirthDates<>"")* (_xlpm.StartDates<>"")* (_xlpm.StartDates<=_xlpm.ReportDate)* ( ( (_xlpm.EndDates="")+ ( (_xlpm.EndDates<>"")* (_xlpm.EndDates>_xlpm.ReportDate) ) )>0 )* ( _xlpm.ReportDate< DATE( YEAR(_xlpm.BirthDates)+6, MONTH(_xlpm.BirthDates), DAY(_xlpm.BirthDates) ) ) ) ) ), 0 )} -> 0 | I8: {=IFERROR( IF( $B8>DAY(EOMONTH(DATE('Facility Credit Information'!$B$11,MONTH(DATEVALUE(I$2&" 1")),1),0)), "", _xlfn.LET( _xlpm.ReportDate,DATE('Facility Credit Information'!$B$11,MONTH(DATEVALUE(I$2&" 1")),$B8), _xlpm.BirthDates,ChildrenTable[*Date of Birth], _xlpm.StartDates,ChildrenTable[*Subsidy Placement Date], _xlpm.EndDates,ChildrenTable[Subsidy End Date], SUMPRODUCT( (_xlpm.BirthDates<>"")* (_xlpm.StartDates<>"")* (_xlpm.StartDates<=_xlpm.ReportDate)* ( ( (_xlpm.EndDates="")+ ( (_xlpm.EndDates<>"")* (_xlpm.EndDates>_xlpm.ReportDate) ) )>0 )* ( _xlpm.ReportDate< DATE( YEAR(_xlpm.BirthDates)+6, MONTH(_xlpm.BirthDates), DAY(_xlpm.BirthDates) ) ) ) ) ), 0 )} -> 0 | J8: {=IFERROR( IF( $B8>DAY(EOMONTH(DATE('Facility Credit Information'!$B$11,MONTH(DATEVALUE(J$2&" 1")),1),0)), "", _xlfn.LET( _xlpm.ReportDate,DATE('Facility Credit Information'!$B$11,MONTH(DATEVALUE(J$2&" 1")),$B8), _xlpm.BirthDates,ChildrenTable[*Date of Birth], _xlpm.StartDates,ChildrenTable[*Subsidy Placement Date], _xlpm.EndDates,ChildrenTable[Subsidy End Date], SUMPRODUCT( (_xlpm.BirthDates<>"")* (_xlpm.StartDates<>"")* (_xlpm.StartDates<=_xlpm.ReportDate)* ( ( (_xlpm.EndDates="")+ ( (_xlpm.EndDates<>"")* (_xlpm.EndDates>_xlpm.ReportDate) ) )>0 )* ( _xlpm.ReportDate< DATE( YEAR(_xlpm.BirthDates)+6, MONTH(_xlpm.BirthDates), DAY(_xlpm.BirthDates) ) ) ) ) ), 0 )} -> 0 | ... N8: {=IFERROR( IF( $B8>DAY(EOMONTH(DATE('Facility Credit Information'!$B$11,MONTH(DATEVALUE(N$2&" 1")),1),0)), "", _xlfn.LET( _xlpm.ReportDate,DATE('Facility Credit Information'!$B$11,MONTH(DATEVALUE(N$2&" 1")),$B8), _xlpm.BirthDates,ChildrenTable[*Date of Birth], _xlpm.StartDates,ChildrenTable[*Subsidy Placement Date], _xlpm.EndDates,ChildrenTable[Subsidy End Date], SUMPRODUCT( (_xlpm.BirthDates<>"")* (_xlpm.StartDates<>"")* (_xlpm.StartDates<=_xlpm.ReportDate)* ( ( (_xlpm.EndDates="")+ ( (_xlpm.EndDates<>"")* (_xlpm.EndDates>_xlpm.ReportDate) ) )>0 )* ( _xlpm.ReportDate< DATE( YEAR(_xlpm.BirthDates)+6, MONTH(_xlpm.BirthDates), DAY(_xlpm.BirthDates) ) ) ) ) ), 0 )} -> 0
B9: 7 | C9: {=IFERROR( IF( $B9>DAY(EOMONTH(DATE('Facility Credit Information'!$B$11,MONTH(DATEVALUE(C$2&" 1")),1),0)), "", _xlfn.LET( _xlpm.ReportDate,DATE('Facility Credit Information'!$B$11,MONTH(DATEVALUE(C$2&" 1")),$B9), _xlpm.BirthDates,ChildrenTable[*Date of Birth], _xlpm.StartDates,ChildrenTable[*Subsidy Placement Date], _xlpm.EndDates,ChildrenTable[Subsidy End Date], SUMPRODUCT( (_xlpm.BirthDates<>"")* (_xlpm.StartDates<>"")* (_xlpm.StartDates<=_xlpm.ReportDate)* ( ( (_xlpm.EndDates="")+ ( (_xlpm.EndDates<>"")* (_xlpm.EndDates>_xlpm.ReportDate) ) )>0 )* ( _xlpm.ReportDate< DATE( YEAR(_xlpm.BirthDates)+6, MONTH(_xlpm.BirthDates), DAY(_xlpm.BirthDates) ) ) ) ) ), 0 )} -> 0 | D9: {=IFERROR( IF( $B9>DAY(EOMONTH(DATE('Facility Credit Information'!$B$11,MONTH(DATEVALUE(D$2&" 1")),1),0)), "", _xlfn.LET( _xlpm.ReportDate,DATE('Facility Credit Information'!$B$11,MONTH(DATEVALUE(D$2&" 1")),$B9), _xlpm.BirthDates,ChildrenTable[*Date of Birth], _xlpm.StartDates,ChildrenTable[*Subsidy Placement Date], _xlpm.EndDates,ChildrenTable[Subsidy End Date], SUMPRODUCT( (_xlpm.BirthDates<>"")* (_xlpm.StartDates<>"")* (_xlpm.StartDates<=_xlpm.ReportDate)* ( ( (_xlpm.EndDates="")+ ( (_xlpm.EndDates<>"")* (_xlpm.EndDates>_xlpm.ReportDate) ) )>0 )* ( _xlpm.ReportDate< DATE( YEAR(_xlpm.BirthDates)+6, MONTH(_xlpm.BirthDates), DAY(_xlpm.BirthDates) ) ) ) ) ), 0 )} -> 0 | E9: {=IFERROR( IF( $B9>DAY(EOMONTH(DATE('Facility Credit Information'!$B$11,MONTH(DATEVALUE(E$2&" 1")),1),0)), "", _xlfn.LET( _xlpm.ReportDate,DATE('Facility Credit Information'!$B$11,MONTH(DATEVALUE(E$2&" 1")),$B9), _xlpm.BirthDates,ChildrenTable[*Date of Birth], _xlpm.StartDates,ChildrenTable[*Subsidy Placement Date], _xlpm.EndDates,ChildrenTable[Subsidy End Date], SUMPRODUCT( (_xlpm.BirthDates<>"")* (_xlpm.StartDates<>"")* (_xlpm.StartDates<=_xlpm.ReportDate)* ( ( (_xlpm.EndDates="")+ ( (_xlpm.EndDates<>"")* (_xlpm.EndDates>_xlpm.ReportDate) ) )>0 )* ( _xlpm.ReportDate< DATE( YEAR(_xlpm.BirthDates)+6, MONTH(_xlpm.BirthDates), DAY(_xlpm.BirthDates) ) ) ) ) ), 0 )} -> 0 | F9: {=IFERROR( IF( $B9>DAY(EOMONTH(DATE('Facility Credit Information'!$B$11,MONTH(DATEVALUE(F$2&" 1")),1),0)), "", _xlfn.LET( _xlpm.ReportDate,DATE('Facility Credit Information'!$B$11,MONTH(DATEVALUE(F$2&" 1")),$B9), _xlpm.BirthDates,ChildrenTable[*Date of Birth], _xlpm.StartDates,ChildrenTable[*Subsidy Placement Date], _xlpm.EndDates,ChildrenTable[Subsidy End Date], SUMPRODUCT( (_xlpm.BirthDates<>"")* (_xlpm.StartDates<>"")* (_xlpm.StartDates<=_xlpm.ReportDate)* ( ( (_xlpm.EndDates="")+ ( (_xlpm.EndDates<>"")* (_xlpm.EndDates>_xlpm.ReportDate) ) )>0 )* ( _xlpm.ReportDate< DATE( YEAR(_xlpm.BirthDates)+6, MONTH(_xlpm.BirthDates), DAY(_xlpm.BirthDates) ) ) ) ) ), 0 )} -> 0 | G9: {=IFERROR( IF( $B9>DAY(EOMONTH(DATE('Facility Credit Information'!$B$11,MONTH(DATEVALUE(G$2&" 1")),1),0)), "", _xlfn.LET( _xlpm.ReportDate,DATE('Facility Credit Information'!$B$11,MONTH(DATEVALUE(G$2&" 1")),$B9), _xlpm.BirthDates,ChildrenTable[*Date of Birth], _xlpm.StartDates,ChildrenTable[*Subsidy Placement Date], _xlpm.EndDates,ChildrenTable[Subsidy End Date], SUMPRODUCT( (_xlpm.BirthDates<>"")* (_xlpm.StartDates<>"")* (_xlpm.StartDates<=_xlpm.ReportDate)* ( ( (_xlpm.EndDates="")+ ( (_xlpm.EndDates<>"")* (_xlpm.EndDates>_xlpm.ReportDate) ) )>0 )* ( _xlpm.ReportDate< DATE( YEAR(_xlpm.BirthDates)+6, MONTH(_xlpm.BirthDates), DAY(_xlpm.BirthDates) ) ) ) ) ), 0 )} -> 0 | H9: {=IFERROR( IF( $B9>DAY(EOMONTH(DATE('Facility Credit Information'!$B$11,MONTH(DATEVALUE(H$2&" 1")),1),0)), "", _xlfn.LET( _xlpm.ReportDate,DATE('Facility Credit Information'!$B$11,MONTH(DATEVALUE(H$2&" 1")),$B9), _xlpm.BirthDates,ChildrenTable[*Date of Birth], _xlpm.StartDates,ChildrenTable[*Subsidy Placement Date], _xlpm.EndDates,ChildrenTable[Subsidy End Date], SUMPRODUCT( (_xlpm.BirthDates<>"")* (_xlpm.StartDates<>"")* (_xlpm.StartDates<=_xlpm.ReportDate)* ( ( (_xlpm.EndDates="")+ ( (_xlpm.EndDates<>"")* (_xlpm.EndDates>_xlpm.ReportDate) ) )>0 )* ( _xlpm.ReportDate< DATE( YEAR(_xlpm.BirthDates)+6, MONTH(_xlpm.BirthDates), DAY(_xlpm.BirthDates) ) ) ) ) ), 0 )} -> 0 | I9: {=IFERROR( IF( $B9>DAY(EOMONTH(DATE('Facility Credit Information'!$B$11,MONTH(DATEVALUE(I$2&" 1")),1),0)), "", _xlfn.LET( _xlpm.ReportDate,DATE('Facility Credit Information'!$B$11,MONTH(DATEVALUE(I$2&" 1")),$B9), _xlpm.BirthDates,ChildrenTable[*Date of Birth], _xlpm.StartDates,ChildrenTable[*Subsidy Placement Date], _xlpm.EndDates,ChildrenTable[Subsidy End Date], SUMPRODUCT( (_xlpm.BirthDates<>"")* (_xlpm.StartDates<>"")* (_xlpm.StartDates<=_xlpm.ReportDate)* ( ( (_xlpm.EndDates="")+ ( (_xlpm.EndDates<>"")* (_xlpm.EndDates>_xlpm.ReportDate) ) )>0 )* ( _xlpm.ReportDate< DATE( YEAR(_xlpm.BirthDates)+6, MONTH(_xlpm.BirthDates), DAY(_xlpm.BirthDates) ) ) ) ) ), 0 )} -> 0 | J9: {=IFERROR( IF( $B9>DAY(EOMONTH(DATE('Facility Credit Information'!$B$11,MONTH(DATEVALUE(J$2&" 1")),1),0)), "", _xlfn.LET( _xlpm.ReportDate,DATE('Facility Credit Information'!$B$11,MONTH(DATEVALUE(J$2&" 1")),$B9), _xlpm.BirthDates,ChildrenTable[*Date of Birth], _xlpm.StartDates,ChildrenTable[*Subsidy Placement Date], _xlpm.EndDates,ChildrenTable[Subsidy End Date], SUMPRODUCT( (_xlpm.BirthDates<>"")* (_xlpm.StartDates<>"")* (_xlpm.StartDates<=_xlpm.ReportDate)* ( ( (_xlpm.EndDates="")+ ( (_xlpm.EndDates<>"")* (_xlpm.EndDates>_xlpm.ReportDate) ) )>0 )* ( _xlpm.ReportDate< DATE( YEAR(_xlpm.BirthDates)+6, MONTH(_xlpm.BirthDates), DAY(_xlpm.BirthDates) ) ) ) ) ), 0 )} -> 0 | ... N9: {=IFERROR( IF( $B9>DAY(EOMONTH(DATE('Facility Credit Information'!$B$11,MONTH(DATEVALUE(N$2&" 1")),1),0)), "", _xlfn.LET( _xlpm.ReportDate,DATE('Facility Credit Information'!$B$11,MONTH(DATEVALUE(N$2&" 1")),$B9), _xlpm.BirthDates,ChildrenTable[*Date of Birth], _xlpm.StartDates,ChildrenTable[*Subsidy Placement Date], _xlpm.EndDates,ChildrenTable[Subsidy End Date], SUMPRODUCT( (_xlpm.BirthDates<>"")* (_xlpm.StartDates<>"")* (_xlpm.StartDates<=_xlpm.ReportDate)* ( ( (_xlpm.EndDates="")+ ( (_xlpm.EndDates<>"")* (_xlpm.EndDates>_xlpm.ReportDate) ) )>0 )* ( _xlpm.ReportDate< DATE( YEAR(_xlpm.BirthDates)+6, MONTH(_xlpm.BirthDates), DAY(_xlpm.BirthDates) ) ) ) ) ), 0 )} -> 0 | R9: Total Credit Allowed: | T9: =IF(SUM(T3:T7)>=25000,25000,SUM(T3:T7)) -> 0
B10: 8 | C10: {=IFERROR( IF( $B10>DAY(EOMONTH(DATE('Facility Credit Information'!$B$11,MONTH(DATEVALUE(C$2&" 1")),1),0)), "", _xlfn.LET( _xlpm.ReportDate,DATE('Facility Credit Information'!$B$11,MONTH(DATEVALUE(C$2&" 1")),$B10), _xlpm.BirthDates,ChildrenTable[*Date of Birth], _xlpm.StartDates,ChildrenTable[*Subsidy Placement Date], _xlpm.EndDates,ChildrenTable[Subsidy End Date], SUMPRODUCT( (_xlpm.BirthDates<>"")* (_xlpm.StartDates<>"")* (_xlpm.StartDates<=_xlpm.ReportDate)* ( ( (_xlpm.EndDates="")+ ( (_xlpm.EndDates<>"")* (_xlpm.EndDates>_xlpm.ReportDate) ) )>0 )* ( _xlpm.ReportDate< DATE( YEAR(_xlpm.BirthDates)+6, MONTH(_xlpm.BirthDates), DAY(_xlpm.BirthDates) ) ) ) ) ), 0 )} -> 0 | D10: {=IFERROR( IF( $B10>DAY(EOMONTH(DATE('Facility Credit Information'!$B$11,MONTH(DATEVALUE(D$2&" 1")),1),0)), "", _xlfn.LET( _xlpm.ReportDate,DATE('Facility Credit Information'!$B$11,MONTH(DATEVALUE(D$2&" 1")),$B10), _xlpm.BirthDates,ChildrenTable[*Date of Birth], _xlpm.StartDates,ChildrenTable[*Subsidy Placement Date], _xlpm.EndDates,ChildrenTable[Subsidy End Date], SUMPRODUCT( (_xlpm.BirthDates<>"")* (_xlpm.StartDates<>"")* (_xlpm.StartDates<=_xlpm.ReportDate)* ( ( (_xlpm.EndDates="")+ ( (_xlpm.EndDates<>"")* (_xlpm.EndDates>_xlpm.ReportDate) ) )>0 )* ( _xlpm.ReportDate< DATE( YEAR(_xlpm.BirthDates)+6, MONTH(_xlpm.BirthDates), DAY(_xlpm.BirthDates) ) ) ) ) ), 0 )} -> 0 | E10: {=IFERROR( IF( $B10>DAY(EOMONTH(DATE('Facility Credit Information'!$B$11,MONTH(DATEVALUE(E$2&" 1")),1),0)), "", _xlfn.LET( _xlpm.ReportDate,DATE('Facility Credit Information'!$B$11,MONTH(DATEVALUE(E$2&" 1")),$B10), _xlpm.BirthDates,ChildrenTable[*Date of Birth], _xlpm.StartDates,ChildrenTable[*Subsidy Placement Date], _xlpm.EndDates,ChildrenTable[Subsidy End Date], SUMPRODUCT( (_xlpm.BirthDates<>"")* (_xlpm.StartDates<>"")* (_xlpm.StartDates<=_xlpm.ReportDate)* ( ( (_xlpm.EndDates="")+ ( (_xlpm.EndDates<>"")* (_xlpm.EndDates>_xlpm.ReportDate) ) )>0 )* ( _xlpm.ReportDate< DATE( YEAR(_xlpm.BirthDates)+6, MONTH(_xlpm.BirthDates), DAY(_xlpm.BirthDates) ) ) ) ) ), 0 )} -> 0 | F10: {=IFERROR( IF( $B10>DAY(EOMONTH(DATE('Facility Credit Information'!$B$11,MONTH(DATEVALUE(F$2&" 1")),1),0)), "", _xlfn.LET( _xlpm.ReportDate,DATE('Facility Credit Information'!$B$11,MONTH(DATEVALUE(F$2&" 1")),$B10), _xlpm.BirthDates,ChildrenTable[*Date of Birth], _xlpm.StartDates,ChildrenTable[*Subsidy Placement Date], _xlpm.EndDates,ChildrenTable[Subsidy End Date], SUMPRODUCT( (_xlpm.BirthDates<>"")* (_xlpm.StartDates<>"")* (_xlpm.StartDates<=_xlpm.ReportDate)* ( ( (_xlpm.EndDates="")+ ( (_xlpm.EndDates<>"")* (_xlpm.EndDates>_xlpm.ReportDate) ) )>0 )* ( _xlpm.ReportDate< DATE( YEAR(_xlpm.BirthDates)+6, MONTH(_xlpm.BirthDates), DAY(_xlpm.BirthDates) ) ) ) ) ), 0 )} -> 0 | G10: {=IFERROR( IF( $B10>DAY(EOMONTH(DATE('Facility Credit Information'!$B$11,MONTH(DATEVALUE(G$2&" 1")),1),0)), "", _xlfn.LET( _xlpm.ReportDate,DATE('Facility Credit Information'!$B$11,MONTH(DATEVALUE(G$2&" 1")),$B10), _xlpm.BirthDates,ChildrenTable[*Date of Birth], _xlpm.StartDates,ChildrenTable[*Subsidy Placement Date], _xlpm.EndDates,ChildrenTable[Subsidy End Date], SUMPRODUCT( (_xlpm.BirthDates<>"")* (_xlpm.StartDates<>"")* (_xlpm.StartDates<=_xlpm.ReportDate)* ( ( (_xlpm.EndDates="")+ ( (_xlpm.EndDates<>"")* (_xlpm.EndDates>_xlpm.ReportDate) ) )>0 )* ( _xlpm.ReportDate< DATE( YEAR(_xlpm.BirthDates)+6, MONTH(_xlpm.BirthDates), DAY(_xlpm.BirthDates) ) ) ) ) ), 0 )} -> 0 | H10: {=IFERROR( IF( $B10>DAY(EOMONTH(DATE('Facility Credit Information'!$B$11,MONTH(DATEVALUE(H$2&" 1")),1),0)), "", _xlfn.LET( _xlpm.ReportDate,DATE('Facility Credit Information'!$B$11,MONTH(DATEVALUE(H$2&" 1")),$B10), _xlpm.BirthDates,ChildrenTable[*Date of Birth], _xlpm.StartDates,ChildrenTable[*Subsidy Placement Date], _xlpm.EndDates,ChildrenTable[Subsidy End Date], SUMPRODUCT( (_xlpm.BirthDates<>"")* (_xlpm.StartDates<>"")* (_xlpm.StartDates<=_xlpm.ReportDate)* ( ( (_xlpm.EndDates="")+ ( (_xlpm.EndDates<>"")* (_xlpm.EndDates>_xlpm.ReportDate) ) )>0 )* ( _xlpm.ReportDate< DATE( YEAR(_xlpm.BirthDates)+6, MONTH(_xlpm.BirthDates), DAY(_xlpm.BirthDates) ) ) ) ) ), 0 )} -> 0 | I10: {=IFERROR( IF( $B10>DAY(EOMONTH(DATE('Facility Credit Information'!$B$11,MONTH(DATEVALUE(I$2&" 1")),1),0)), "", _xlfn.LET( _xlpm.ReportDate,DATE('Facility Credit Information'!$B$11,MONTH(DATEVALUE(I$2&" 1")),$B10), _xlpm.BirthDates,ChildrenTable[*Date of Birth], _xlpm.StartDates,ChildrenTable[*Subsidy Placement Date], _xlpm.EndDates,ChildrenTable[Subsidy End Date], SUMPRODUCT( (_xlpm.BirthDates<>"")* (_xlpm.StartDates<>"")* (_xlpm.StartDates<=_xlpm.ReportDate)* ( ( (_xlpm.EndDates="")+ ( (_xlpm.EndDates<>"")* (_xlpm.EndDates>_xlpm.ReportDate) ) )>0 )* ( _xlpm.ReportDate< DATE( YEAR(_xlpm.BirthDates)+6, MONTH(_xlpm.BirthDates), DAY(_xlpm.BirthDates) ) ) ) ) ), 0 )} -> 0 | J10: {=IFERROR( IF( $B10>DAY(EOMONTH(DATE('Facility Credit Information'!$B$11,MONTH(DATEVALUE(J$2&" 1")),1),0)), "", _xlfn.LET( _xlpm.ReportDate,DATE('Facility Credit Information'!$B$11,MONTH(DATEVALUE(J$2&" 1")),$B10), _xlpm.BirthDates,ChildrenTable[*Date of Birth], _xlpm.StartDates,ChildrenTable[*Subsidy Placement Date], _xlpm.EndDates,ChildrenTable[Subsidy End Date], SUMPRODUCT( (_xlpm.BirthDates<>"")* (_xlpm.StartDates<>"")* (_xlpm.StartDates<=_xlpm.ReportDate)* ( ( (_xlpm.EndDates="")+ ( (_xlpm.EndDates<>"")* (_xlpm.EndDates>_xlpm.ReportDate) ) )>0 )* ( _xlpm.ReportDate< DATE( YEAR(_xlpm.BirthDates)+6, MONTH(_xlpm.BirthDates), DAY(_xlpm.BirthDates) ) ) ) ) ), 0 )} -> 0 | ... N10: {=IFERROR( IF( $B10>DAY(EOMONTH(DATE('Facility Credit Information'!$B$11,MONTH(DATEVALUE(N$2&" 1")),1),0)), "", _xlfn.LET( _xlpm.ReportDate,DATE('Facility Credit Information'!$B$11,MONTH(DATEVALUE(N$2&" 1")),$B10), _xlpm.BirthDates,ChildrenTable[*Date of Birth], _xlpm.StartDates,ChildrenTable[*Subsidy Placement Date], _xlpm.EndDates,ChildrenTable[Subsidy End Date], SUMPRODUCT( (_xlpm.BirthDates<>"")* (_xlpm.StartDates<>"")* (_xlpm.StartDates<=_xlpm.ReportDate)* ( ( (_xlpm.EndDates="")+ ( (_xlpm.EndDates<>"")* (_xlpm.EndDates>_xlpm.ReportDate) ) )>0 )* ( _xlpm.ReportDate< DATE( YEAR(_xlpm.BirthDates)+6, MONTH(_xlpm.BirthDates), DAY(_xlpm.BirthDates) ) ) ) ) ), 0 )} -> 0
